BEGIN:VCALENDAR
VERSION:2.0
PRODID:-//DeAnza Springs Resort - ECPv6.14.2//NONSGML v1.0//EN
CALSCALE:GREGORIAN
METHOD:PUBLISH
X-WR-CALNAME:DeAnza Springs Resort
X-ORIGINAL-URL:https://deanzasprings.com
X-WR-CALDESC:Events for DeAnza Springs Resort
REFRESH-INTERVAL;VALUE=DURATION:PT1H
X-Robots-Tag:noindex
X-PUBLISHED-TTL:PT1H
BEGIN:VTIMEZONE
TZID:America/Los_Angeles
BEGIN:DAYLIGHT
TZOFFSETFROM:-0800
TZOFFSETTO:-0700
TZNAME:PDT
DTSTART:20220313T100000
END:DAYLIGHT
BEGIN:STANDARD
TZOFFSETFROM:-0700
TZOFFSETTO:-0800
TZNAME:PST
DTSTART:20221106T090000
END:STANDARD
END:VTIMEZONE
BEGIN:VEVENT
DTSTART;TZID=America/Los_Angeles:20221015T170000
DTEND;TZID=America/Los_Angeles:20221015T170000
DTSTAMP:20260423T132636
CREATED:20220929T154416Z
LAST-MODIFIED:20220929T154416Z
UID:3369-1665853200-1665853200@deanzasprings.com
SUMMARY:5:00PM Live Music - Kim Archer
DESCRIPTION:
URL:https://deanzasprings.com/event/500pm-live-music-kim-archer/
CATEGORIES:DSR
END:VEVENT
BEGIN:VEVENT
DTSTART;TZID=America/Los_Angeles:20221016T110000
DTEND;TZID=America/Los_Angeles:20221016T110000
DTSTAMP:20260423T132636
CREATED:20220627T192741Z
LAST-MODIFIED:20220627T192741Z
UID:2676-1665918000-1665918000@deanzasprings.com
SUMMARY:11:11AM Sound Healing
DESCRIPTION:
URL:https://deanzasprings.com/event/1111am-sound-healing-15/
CATEGORIES:DSR
END:VEVENT
BEGIN:VEVENT
DTSTART;TZID=America/Los_Angeles:20221016T110000
DTEND;TZID=America/Los_Angeles:20221016T110000
DTSTAMP:20260423T132636
CREATED:20220627T194125Z
LAST-MODIFIED:20220627T194125Z
UID:2728-1665918000-1665918000@deanzasprings.com
SUMMARY:12:00PM Sunday Worship
DESCRIPTION:
URL:https://deanzasprings.com/event/1200pm-sunday-worship-15/
CATEGORIES:DSR
END:VEVENT
BEGIN:VEVENT
DTSTART;TZID=America/Los_Angeles:20221016T110000
DTEND;TZID=America/Los_Angeles:20221016T110000
DTSTAMP:20260423T132636
CREATED:20220627T195400Z
LAST-MODIFIED:20220627T195400Z
UID:2761-1665918000-1665918000@deanzasprings.com
SUMMARY:12:00PM Billiards Tournament
DESCRIPTION:
URL:https://deanzasprings.com/event/1200pm-billiards-tournament-13/
CATEGORIES:DSR
END:VEVENT
BEGIN:VEVENT
DTSTART;TZID=America/Los_Angeles:20221019T140000
DTEND;TZID=America/Los_Angeles:20221019T150000
DTSTAMP:20260423T132636
CREATED:20220929T153754Z
LAST-MODIFIED:20220929T153754Z
UID:3341-1666188000-1666191600@deanzasprings.com
SUMMARY:2:00PM Water Volleyball
DESCRIPTION:
URL:https://deanzasprings.com/event/200pm-water-volleyball-19/
CATEGORIES:DSR
END:VEVENT
BEGIN:VEVENT
DTSTART;TZID=America/Los_Angeles:20221021T140000
DTEND;TZID=America/Los_Angeles:20221021T160000
DTSTAMP:20260423T132636
CREATED:20220929T043829Z
LAST-MODIFIED:20220929T145202Z
UID:3064-1666360800-1666368000@deanzasprings.com
SUMMARY:2PM Water Volleyball
DESCRIPTION:
URL:https://deanzasprings.com/event/2pm-water-volleyball-2022-10-21/
CATEGORIES:DSR
END:VEVENT
BEGIN:VEVENT
DTSTART;TZID=America/Los_Angeles:20221021T153000
DTEND;TZID=America/Los_Angeles:20221021T173000
DTSTAMP:20260423T132636
CREATED:20220929T150404Z
LAST-MODIFIED:20220929T150404Z
UID:3179-1666366200-1666373400@deanzasprings.com
SUMMARY:3:30PM Beer & Hot Dogs
DESCRIPTION:
URL:https://deanzasprings.com/event/330pm-beer-hot-dogs-7/
CATEGORIES:DSR
END:VEVENT
BEGIN:VEVENT
DTSTART;TZID=America/Los_Angeles:20221021T160000
DTEND;TZID=America/Los_Angeles:20221021T180000
DTSTAMP:20260423T132636
CREATED:20220929T151947Z
LAST-MODIFIED:20220929T151947Z
UID:3257-1666368000-1666375200@deanzasprings.com
SUMMARY:4:00PM Free Movie
DESCRIPTION:
URL:https://deanzasprings.com/event/400pm-free-movie-4/
CATEGORIES:DSR
END:VEVENT
BEGIN:VEVENT
DTSTART;TZID=America/Los_Angeles:20221021T190000
DTEND;TZID=America/Los_Angeles:20221021T200000
DTSTAMP:20260423T132636
CREATED:20220929T150914Z
LAST-MODIFIED:20220929T150914Z
UID:3201-1666378800-1666382400@deanzasprings.com
SUMMARY:7:00PM Bingo
DESCRIPTION:
URL:https://deanzasprings.com/event/700pm-bingo-4/
CATEGORIES:DSR
END:VEVENT
BEGIN:VEVENT
DTSTART;TZID=America/Los_Angeles:20221021T200000
DTEND;TZID=America/Los_Angeles:20221021T210000
DTSTAMP:20260423T132636
CREATED:20220929T151443Z
LAST-MODIFIED:20220929T151443Z
UID:3229-1666382400-1666386000@deanzasprings.com
SUMMARY:8:00PM Karaoke
DESCRIPTION:
URL:https://deanzasprings.com/event/800pm-karaoke-4/
CATEGORIES:DSR
END:VEVENT
BEGIN:VEVENT
DTSTART;TZID=America/Los_Angeles:20221022T100000
DTEND;TZID=America/Los_Angeles:20221022T110000
DTSTAMP:20260423T132636
CREATED:20220929T152526Z
LAST-MODIFIED:20220929T152526Z
UID:3285-1666432800-1666436400@deanzasprings.com
SUMMARY:10:00AM Water Volleyball
DESCRIPTION:
URL:https://deanzasprings.com/event/1000am-water-volleyball-6/
CATEGORIES:DSR
END:VEVENT
BEGIN:VEVENT
DTSTART;TZID=America/Los_Angeles:20221022T140000
DTEND;TZID=America/Los_Angeles:20221022T150000
DTSTAMP:20260423T132636
CREATED:20220929T153341Z
LAST-MODIFIED:20220929T153341Z
UID:3315-1666447200-1666450800@deanzasprings.com
SUMMARY:2:00PM Water Volleyball
DESCRIPTION:
URL:https://deanzasprings.com/event/200pm-water-volleyball-6/
CATEGORIES:DSR
END:VEVENT
BEGIN:VEVENT
DTSTART;TZID=America/Los_Angeles:20221023T110000
DTEND;TZID=America/Los_Angeles:20221023T110000
DTSTAMP:20260423T132636
CREATED:20220627T192804Z
LAST-MODIFIED:20220627T192804Z
UID:2675-1666522800-1666522800@deanzasprings.com
SUMMARY:11:11AM Sound Healing
DESCRIPTION:
URL:https://deanzasprings.com/event/1111am-sound-healing-16/
CATEGORIES:DSR
END:VEVENT
BEGIN:VEVENT
DTSTART;TZID=America/Los_Angeles:20221023T110000
DTEND;TZID=America/Los_Angeles:20221023T110000
DTSTAMP:20260423T132636
CREATED:20220627T194138Z
LAST-MODIFIED:20220627T194138Z
UID:2727-1666522800-1666522800@deanzasprings.com
SUMMARY:12:00PM Sunday Worship
DESCRIPTION:
URL:https://deanzasprings.com/event/1200pm-sunday-worship-16/
CATEGORIES:DSR
END:VEVENT
BEGIN:VEVENT
DTSTART;TZID=America/Los_Angeles:20221023T110000
DTEND;TZID=America/Los_Angeles:20221023T110000
DTSTAMP:20260423T132636
CREATED:20220627T195446Z
LAST-MODIFIED:20220627T195446Z
UID:2760-1666522800-1666522800@deanzasprings.com
SUMMARY:12:00PM Billiards Tournament
DESCRIPTION:
URL:https://deanzasprings.com/event/1200pm-billiards-tournament-16/
CATEGORIES:DSR
END:VEVENT
BEGIN:VEVENT
DTSTART;TZID=America/Los_Angeles:20221026T140000
DTEND;TZID=America/Los_Angeles:20221026T150000
DTSTAMP:20260423T132636
CREATED:20220929T153808Z
LAST-MODIFIED:20220929T153808Z
UID:3343-1666792800-1666796400@deanzasprings.com
SUMMARY:2:00PM Water Volleyball
DESCRIPTION:
URL:https://deanzasprings.com/event/200pm-water-volleyball-20/
CATEGORIES:DSR
END:VEVENT
BEGIN:VEVENT
DTSTART;TZID=America/Los_Angeles:20221028T140000
DTEND;TZID=America/Los_Angeles:20221028T160000
DTSTAMP:20260423T132636
CREATED:20220929T043829Z
LAST-MODIFIED:20220929T145233Z
UID:3065-1666965600-1666972800@deanzasprings.com
SUMMARY:2PM Water Volleyball
DESCRIPTION:
URL:https://deanzasprings.com/event/2pm-water-volleyball-2022-10-28/
CATEGORIES:DSR
END:VEVENT
BEGIN:VEVENT
DTSTART;TZID=America/Los_Angeles:20221028T160000
DTEND;TZID=America/Los_Angeles:20221028T180000
DTSTAMP:20260423T132636
CREATED:20220929T152001Z
LAST-MODIFIED:20220929T152001Z
UID:3259-1666972800-1666980000@deanzasprings.com
SUMMARY:4:00PM Free Movie
DESCRIPTION:
URL:https://deanzasprings.com/event/400pm-free-movie-5/
CATEGORIES:DSR
END:VEVENT
BEGIN:VEVENT
DTSTART;TZID=America/Los_Angeles:20221028T190000
DTEND;TZID=America/Los_Angeles:20221028T200000
DTSTAMP:20260423T132636
CREATED:20220929T150932Z
LAST-MODIFIED:20220929T150932Z
UID:3203-1666983600-1666987200@deanzasprings.com
SUMMARY:7:00PM Bingo
DESCRIPTION:
URL:https://deanzasprings.com/event/700pm-bingo-5/
CATEGORIES:DSR
END:VEVENT
BEGIN:VEVENT
DTSTART;TZID=America/Los_Angeles:20221028T200000
DTEND;TZID=America/Los_Angeles:20221028T210000
DTSTAMP:20260423T132636
CREATED:20220929T151457Z
LAST-MODIFIED:20220929T151457Z
UID:3231-1666987200-1666990800@deanzasprings.com
SUMMARY:8:00PM Karaoke
DESCRIPTION:
URL:https://deanzasprings.com/event/800pm-karaoke-5/
CATEGORIES:DSR
END:VEVENT
BEGIN:VEVENT
DTSTART;TZID=America/Los_Angeles:20221029T100000
DTEND;TZID=America/Los_Angeles:20221029T110000
DTSTAMP:20260423T132636
CREATED:20220929T152542Z
LAST-MODIFIED:20220929T152542Z
UID:3287-1667037600-1667041200@deanzasprings.com
SUMMARY:10:00AM Water Volleyball
DESCRIPTION:
URL:https://deanzasprings.com/event/1000am-water-volleyball-7/
CATEGORIES:DSR
END:VEVENT
BEGIN:VEVENT
DTSTART;TZID=America/Los_Angeles:20221029T140000
DTEND;TZID=America/Los_Angeles:20221029T150000
DTSTAMP:20260423T132636
CREATED:20220929T153356Z
LAST-MODIFIED:20220929T153356Z
UID:3317-1667052000-1667055600@deanzasprings.com
SUMMARY:2:00PM Water Volleyball
DESCRIPTION:
URL:https://deanzasprings.com/event/200pm-water-volleyball-7/
CATEGORIES:DSR
END:VEVENT
BEGIN:VEVENT
DTSTART;TZID=America/Los_Angeles:20221029T170000
DTEND;TZID=America/Los_Angeles:20221029T170000
DTSTAMP:20260423T132636
CREATED:20220929T154539Z
LAST-MODIFIED:20220929T154539Z
UID:3371-1667062800-1667062800@deanzasprings.com
SUMMARY:5:00PM Halloween Bash!
DESCRIPTION:
URL:https://deanzasprings.com/event/500pm-halloween-bash/
CATEGORIES:DSR
END:VEVENT
BEGIN:VEVENT
DTSTART;TZID=America/Los_Angeles:20221029T190000
DTEND;TZID=America/Los_Angeles:20221029T190000
DTSTAMP:20260423T132636
CREATED:20220929T154616Z
LAST-MODIFIED:20221027T012132Z
UID:3373-1667070000-1667070000@deanzasprings.com
SUMMARY:7:00PM Live Music - The Whole Sha-Bang
DESCRIPTION:
URL:https://deanzasprings.com/event/600pm-live-music-the-whole-sha-bang/
CATEGORIES:DSR
END:VEVENT
BEGIN:VEVENT
DTSTART;TZID=America/Los_Angeles:20221030T110000
DTEND;TZID=America/Los_Angeles:20221030T110000
DTSTAMP:20260423T132636
CREATED:20220627T192839Z
LAST-MODIFIED:20220627T192839Z
UID:2683-1667127600-1667127600@deanzasprings.com
SUMMARY:11:11AM Sound Healing
DESCRIPTION:
URL:https://deanzasprings.com/event/1111am-sound-healing-17/
CATEGORIES:DSR
END:VEVENT
BEGIN:VEVENT
DTSTART;TZID=America/Los_Angeles:20221030T110000
DTEND;TZID=America/Los_Angeles:20221030T110000
DTSTAMP:20260423T132636
CREATED:20220627T194153Z
LAST-MODIFIED:20220627T194153Z
UID:2726-1667127600-1667127600@deanzasprings.com
SUMMARY:12:00PM Sunday Worship
DESCRIPTION:
URL:https://deanzasprings.com/event/1200pm-sunday-worship-17/
CATEGORIES:DSR
END:VEVENT
BEGIN:VEVENT
DTSTART;TZID=America/Los_Angeles:20221030T110000
DTEND;TZID=America/Los_Angeles:20221030T110000
DTSTAMP:20260423T132636
CREATED:20220627T195432Z
LAST-MODIFIED:20220627T195432Z
UID:2759-1667127600-1667127600@deanzasprings.com
SUMMARY:12:00PM Billiards Tournament
DESCRIPTION:
URL:https://deanzasprings.com/event/1200pm-billiards-tournament-15/
CATEGORIES:DSR
END:VEVENT
BEGIN:VEVENT
DTSTART;TZID=America/Los_Angeles:20221102T140000
DTEND;TZID=America/Los_Angeles:20221102T150000
DTSTAMP:20260423T132636
CREATED:20220929T153822Z
LAST-MODIFIED:20220929T153822Z
UID:3345-1667397600-1667401200@deanzasprings.com
SUMMARY:2:00PM Water Volleyball
DESCRIPTION:
URL:https://deanzasprings.com/event/200pm-water-volleyball-21/
CATEGORIES:DSR
END:VEVENT
BEGIN:VEVENT
DTSTART;TZID=America/Los_Angeles:20221104T140000
DTEND;TZID=America/Los_Angeles:20221104T160000
DTSTAMP:20260423T132636
CREATED:20220929T043829Z
LAST-MODIFIED:20220929T145259Z
UID:3066-1667570400-1667577600@deanzasprings.com
SUMMARY:2PM Water Volleyball
DESCRIPTION:
URL:https://deanzasprings.com/event/2pm-water-volleyball-2022-11-04/
CATEGORIES:DSR
END:VEVENT
BEGIN:VEVENT
DTSTART;TZID=America/Los_Angeles:20221104T190000
DTEND;TZID=America/Los_Angeles:20221104T200000
DTSTAMP:20260423T132636
CREATED:20220929T150947Z
LAST-MODIFIED:20220929T150947Z
UID:3205-1667588400-1667592000@deanzasprings.com
SUMMARY:7:00PM Bingo
DESCRIPTION:
URL:https://deanzasprings.com/event/700pm-bingo-6/
CATEGORIES:DSR
END:VEVENT
END:VCALENDAR