BEGIN:VCALENDAR
VERSION:2.0
PRODID:-//DeAnza Springs Resort - ECPv6.14.2//NONSGML v1.0//EN
CALSCALE:GREGORIAN
METHOD:PUBLISH
X-ORIGINAL-URL:https://deanzasprings.com
X-WR-CALDESC:Events for DeAnza Springs Resort
REFRESH-INTERVAL;VALUE=DURATION:PT1H
X-Robots-Tag:noindex
X-PUBLISHED-TTL:PT1H
BEGIN:VTIMEZONE
TZID:America/Los_Angeles
BEGIN:DAYLIGHT
TZOFFSETFROM:-0800
TZOFFSETTO:-0700
TZNAME:PDT
DTSTART:20220313T100000
END:DAYLIGHT
BEGIN:STANDARD
TZOFFSETFROM:-0700
TZOFFSETTO:-0800
TZNAME:PST
DTSTART:20221106T090000
END:STANDARD
END:VTIMEZONE
BEGIN:VEVENT
DTSTART;TZID=America/Los_Angeles:20220507T200000
DTEND;TZID=America/Los_Angeles:20220507T200000
DTSTAMP:20260423T030137
CREATED:20220420T050327Z
LAST-MODIFIED:20220420T072441Z
UID:1169-1651953600-1651953600@deanzasprings.com
SUMMARY:8:00 PM Cinco de Mayo Celebration (DeAnza Springs Resort) Drink Specials\, Music\, Games/Activities
DESCRIPTION:
URL:https://deanzasprings.com/event/cinco-de-mayo-celebration-deanza-springs-resort-drink-specials-music-games-activities/
END:VEVENT
BEGIN:VEVENT
DTSTART;TZID=America/Los_Angeles:20220514T190000
DTEND;TZID=America/Los_Angeles:20220514T190000
DTSTAMP:20260423T030137
CREATED:20220420T050748Z
LAST-MODIFIED:20220420T072517Z
UID:1173-1652554800-1652554800@deanzasprings.com
SUMMARY:7:00 PM Glow In The Dark Hike (Meet At The Office)
DESCRIPTION:
URL:https://deanzasprings.com/event/glow-in-the-dark-hike-meet-at-the-office/
END:VEVENT
BEGIN:VEVENT
DTSTART;VALUE=DATE:20220518
DTEND;VALUE=DATE:20220523
DTSTAMP:20260423T030137
CREATED:20220420T050957Z
LAST-MODIFIED:20220420T072552Z
UID:1175-1652893200-1653238799@deanzasprings.com
SUMMARY:(All Day) Karnival of the Arts Weekend - The Colony
DESCRIPTION:
URL:https://deanzasprings.com/event/karnival-of-the-arts-weekend-the-colony/
END:VEVENT
BEGIN:VEVENT
DTSTART;TZID=America/Los_Angeles:20220522T100000
DTEND;TZID=America/Los_Angeles:20220522T100000
DTSTAMP:20260423T030137
CREATED:20220518T165229Z
LAST-MODIFIED:20220518T170024Z
UID:1728-1653213600-1653213600@deanzasprings.com
SUMMARY:Nude Hiking Series (3rd) - Gray Mountain @ 10 am
DESCRIPTION:
URL:https://deanzasprings.com/event/nude-hiking-series-3rd-gray-mountain-10-am/
END:VEVENT
BEGIN:VEVENT
DTSTART;VALUE=DATE:20220526
DTEND;VALUE=DATE:20220531
DTSTAMP:20260423T030137
CREATED:20220420T051032Z
LAST-MODIFIED:20220518T164739Z
UID:1177-1653584400-1653929999@deanzasprings.com
SUMMARY:(All Day) Memorial Day Weekend
DESCRIPTION:
URL:https://deanzasprings.com/event/memorial-day-weekend-dsr/
END:VEVENT
BEGIN:VEVENT
DTSTART;TZID=America/Los_Angeles:20220527T120000
DTEND;TZID=America/Los_Angeles:20220527T120000
DTSTAMP:20260423T030137
CREATED:20220420T051118Z
LAST-MODIFIED:20220420T072651Z
UID:1179-1653652800-1653652800@deanzasprings.com
SUMMARY:7:00 PM Bingo
DESCRIPTION:
URL:https://deanzasprings.com/event/bingo-7-pm-2/
END:VEVENT
BEGIN:VEVENT
DTSTART;TZID=America/Los_Angeles:20220527T200000
DTEND;TZID=America/Los_Angeles:20220527T200000
DTSTAMP:20260423T030137
CREATED:20220420T051158Z
LAST-MODIFIED:20220420T072720Z
UID:1181-1653681600-1653681600@deanzasprings.com
SUMMARY:8:00 PM Karaoke Until Closing
DESCRIPTION:
URL:https://deanzasprings.com/event/karaoke-8-pm-to-close-2/
END:VEVENT
BEGIN:VEVENT
DTSTART;TZID=America/Los_Angeles:20220528T070000
DTEND;TZID=America/Los_Angeles:20220528T070000
DTSTAMP:20260423T030137
CREATED:20220518T165652Z
LAST-MODIFIED:20220518T170041Z
UID:1731-1653721200-1653721200@deanzasprings.com
SUMMARY:Nude Hiking Series (4th) - Jacumba Peak @ 7am
DESCRIPTION:
URL:https://deanzasprings.com/event/nude-hiking-series-4th-jacumba-peak-7am/
END:VEVENT
BEGIN:VEVENT
DTSTART;TZID=America/Los_Angeles:20220528T170000
DTEND;TZID=America/Los_Angeles:20220528T200000
DTSTAMP:20260423T030137
CREATED:20220419T222021Z
LAST-MODIFIED:20220420T072743Z
UID:1189-1653757200-1653768000@deanzasprings.com
SUMMARY:5:00 PM Paint N Sip w/ Kashi
DESCRIPTION:
URL:https://deanzasprings.com/event/paint-n-sip-w-kashi/
END:VEVENT
BEGIN:VEVENT
DTSTART;TZID=America/Los_Angeles:20220528T200000
DTEND;TZID=America/Los_Angeles:20220528T200000
DTSTAMP:20260423T030137
CREATED:20220419T222057Z
LAST-MODIFIED:20220420T072806Z
UID:1191-1653768000-1653768000@deanzasprings.com
SUMMARY:8:00 PM DJ Dance w/ DJ Lily
DESCRIPTION:
URL:https://deanzasprings.com/event/dj-dance-w-dj-lily/
END:VEVENT
BEGIN:VEVENT
DTSTART;TZID=America/Los_Angeles:20220529T200000
DTEND;TZID=America/Los_Angeles:20220529T200000
DTSTAMP:20260423T030137
CREATED:20220419T222133Z
LAST-MODIFIED:20220518T165941Z
UID:1193-1653854400-1653854400@deanzasprings.com
SUMMARY:8:00 PM Drag Show
DESCRIPTION:
URL:https://deanzasprings.com/event/drag-show/
END:VEVENT
BEGIN:VEVENT
DTSTART;TZID=America/Los_Angeles:20220529T210000
DTEND;TZID=America/Los_Angeles:20220529T210000
DTSTAMP:20260423T030137
CREATED:20220419T222217Z
LAST-MODIFIED:20220420T072848Z
UID:1195-1653858000-1653858000@deanzasprings.com
SUMMARY:9:00 PM Live Music
DESCRIPTION:
URL:https://deanzasprings.com/event/live-music/
END:VEVENT
BEGIN:VEVENT
DTSTART;TZID=America/Los_Angeles:20220530T100000
DTEND;TZID=America/Los_Angeles:20220530T100000
DTSTAMP:20260423T030137
CREATED:20220419T222249Z
LAST-MODIFIED:20220518T170000Z
UID:1197-1653904800-1653904800@deanzasprings.com
SUMMARY:10:00 AM Morning Hike
DESCRIPTION:
URL:https://deanzasprings.com/event/morning-hike/
END:VEVENT
BEGIN:VEVENT
DTSTART;VALUE=DATE:20220603
DTEND;VALUE=DATE:20220606
DTSTAMP:20260423T030137
CREATED:20220518T172037Z
LAST-MODIFIED:20220518T172037Z
UID:1734-1654214400-1654473599@deanzasprings.com
SUMMARY:Hash House Harriers Weekend
DESCRIPTION:
URL:https://deanzasprings.com/event/hash-house-harriers-weekend/
END:VEVENT
BEGIN:VEVENT
DTSTART;TZID=America/Los_Angeles:20220603T190000
DTEND;TZID=America/Los_Angeles:20220603T200000
DTSTAMP:20260423T030137
CREATED:20220602T040235Z
LAST-MODIFIED:20220602T040235Z
UID:1800-1654282800-1654286400@deanzasprings.com
SUMMARY:7:00 PM Bingo
DESCRIPTION:
URL:https://deanzasprings.com/event/700-pm-bingo-3/
END:VEVENT
BEGIN:VEVENT
DTSTART;TZID=America/Los_Angeles:20220603T200000
DTEND;TZID=America/Los_Angeles:20220603T200000
DTSTAMP:20260423T030137
CREATED:20220518T172350Z
LAST-MODIFIED:20220518T172350Z
UID:1740-1654286400-1654286400@deanzasprings.com
SUMMARY:8:00 PM Karaoke Until Closing
DESCRIPTION:
URL:https://deanzasprings.com/event/800-pm-karaoke-until-closing/
END:VEVENT
BEGIN:VEVENT
DTSTART;TZID=America/Los_Angeles:20220604T200000
DTEND;TZID=America/Los_Angeles:20220604T200000
DTSTAMP:20260423T030137
CREATED:20220518T172607Z
LAST-MODIFIED:20220518T172607Z
UID:1746-1654372800-1654372800@deanzasprings.com
SUMMARY:Live Music: Ophelia Vibe @ 8pm
DESCRIPTION:
URL:https://deanzasprings.com/event/live-music-ophelia-vibe-8pm/
END:VEVENT
BEGIN:VEVENT
DTSTART;TZID=America/Los_Angeles:20220604T210000
DTEND;TZID=America/Los_Angeles:20220604T210000
DTSTAMP:20260423T030137
CREATED:20220602T040101Z
LAST-MODIFIED:20220602T040305Z
UID:1798-1654376400-1654376400@deanzasprings.com
SUMMARY:9:00 PM Live Acoustic Singer: Zach Gutierrez
DESCRIPTION:
URL:https://deanzasprings.com/event/900-pm-live-acoustic-singer-zach-gutierrez/
END:VEVENT
BEGIN:VEVENT
DTSTART;TZID=America/Los_Angeles:20220605T120000
DTEND;TZID=America/Los_Angeles:20220605T120000
DTSTAMP:20260423T030137
CREATED:20220518T172646Z
LAST-MODIFIED:20220518T172646Z
UID:1748-1654430400-1654430400@deanzasprings.com
SUMMARY:Sunday Worship @ 12pm
DESCRIPTION:
URL:https://deanzasprings.com/event/sunday-worship-12pm/
END:VEVENT
BEGIN:VEVENT
DTSTART;VALUE=DATE:20220610
DTEND;VALUE=DATE:20220613
DTSTAMP:20260423T030137
CREATED:20220518T165058Z
LAST-MODIFIED:20220518T165058Z
UID:1726-1654819200-1655078399@deanzasprings.com
SUMMARY:DeAnza June Reggae Festival
DESCRIPTION:
URL:https://deanzasprings.com/event/deanza-june-reggae-festival/
END:VEVENT
BEGIN:VEVENT
DTSTART;TZID=America/Los_Angeles:20220617T120000
DTEND;TZID=America/Los_Angeles:20220617T120000
DTSTAMP:20260423T030137
CREATED:20220518T172231Z
LAST-MODIFIED:20220519T002444Z
UID:1738-1655467200-1655467200@deanzasprings.com
SUMMARY:7:00 PM Trivia Night
DESCRIPTION:
URL:https://deanzasprings.com/event/700-pm-bingo-2/
END:VEVENT
BEGIN:VEVENT
DTSTART;TZID=America/Los_Angeles:20220617T200000
DTEND;TZID=America/Los_Angeles:20220617T200000
DTSTAMP:20260423T030137
CREATED:20220518T172435Z
LAST-MODIFIED:20220518T172435Z
UID:1742-1655496000-1655496000@deanzasprings.com
SUMMARY:8:00 PM Karaoke Until Closing
DESCRIPTION:
URL:https://deanzasprings.com/event/800-pm-karaoke-until-closing-2/
END:VEVENT
BEGIN:VEVENT
DTSTART;TZID=America/Los_Angeles:20220618T200000
DTEND;TZID=America/Los_Angeles:20220618T200000
DTSTAMP:20260423T030137
CREATED:20220518T172929Z
LAST-MODIFIED:20220518T172929Z
UID:1754-1655582400-1655582400@deanzasprings.com
SUMMARY:Live Band: Whole Sha-Bang @ 8pm
DESCRIPTION:
URL:https://deanzasprings.com/event/live-band-whole-sha-bang-8pm/
END:VEVENT
BEGIN:VEVENT
DTSTART;TZID=America/Los_Angeles:20220619T120000
DTEND;TZID=America/Los_Angeles:20220619T120000
DTSTAMP:20260423T030137
CREATED:20220518T172726Z
LAST-MODIFIED:20220518T172726Z
UID:1750-1655640000-1655640000@deanzasprings.com
SUMMARY:Sunday Worship @ 12pm
DESCRIPTION:
URL:https://deanzasprings.com/event/sunday-worship-12pm-2/
END:VEVENT
BEGIN:VEVENT
DTSTART;TZID=America/Los_Angeles:20220624T120000
DTEND;TZID=America/Los_Angeles:20220624T120000
DTSTAMP:20260423T030137
CREATED:20220519T002541Z
LAST-MODIFIED:20220519T002541Z
UID:1759-1656072000-1656072000@deanzasprings.com
SUMMARY:7:00 PM Bingo
DESCRIPTION:
URL:https://deanzasprings.com/event/700-pm-bingo/
END:VEVENT
BEGIN:VEVENT
DTSTART;TZID=America/Los_Angeles:20220624T200000
DTEND;TZID=America/Los_Angeles:20220624T200000
DTSTAMP:20260423T030137
CREATED:20220519T002616Z
LAST-MODIFIED:20220519T002616Z
UID:1761-1656100800-1656100800@deanzasprings.com
SUMMARY:8:00 PM Karaoke Until Closing
DESCRIPTION:
URL:https://deanzasprings.com/event/800-pm-karaoke-until-closing-3/
END:VEVENT
BEGIN:VEVENT
DTSTART;TZID=America/Los_Angeles:20220625T190000
DTEND;TZID=America/Los_Angeles:20220625T190000
DTSTAMP:20260423T030137
CREATED:20220518T173029Z
LAST-MODIFIED:20220518T173029Z
UID:1756-1656183600-1656183600@deanzasprings.com
SUMMARY:Outdoor Folk Festival (Silk Button Butchers @ 7pm)
DESCRIPTION:
URL:https://deanzasprings.com/event/outdoor-folk-festival-silk-button-butchers-7pm/
END:VEVENT
BEGIN:VEVENT
DTSTART;TZID=America/Los_Angeles:20220626T120000
DTEND;TZID=America/Los_Angeles:20220626T120000
DTSTAMP:20260423T030137
CREATED:20220518T172810Z
LAST-MODIFIED:20220518T172810Z
UID:1752-1656244800-1656244800@deanzasprings.com
SUMMARY:Sunday Worship @ 12pm
DESCRIPTION:
URL:https://deanzasprings.com/event/sunday-worship-12pm-3/
END:VEVENT
BEGIN:VEVENT
DTSTART;VALUE=DATE:20220701
DTEND;VALUE=DATE:20220705
DTSTAMP:20260423T030137
CREATED:20220608T054421Z
LAST-MODIFIED:20220608T054421Z
UID:1956-1656633600-1656979199@deanzasprings.com
SUMMARY:4th of July Weekend
DESCRIPTION:
URL:https://deanzasprings.com/event/4th-of-july-weekend/
END:VEVENT
BEGIN:VEVENT
DTSTART;TZID=America/Los_Angeles:20220701T190000
DTEND;TZID=America/Los_Angeles:20220701T200000
DTSTAMP:20260423T030137
CREATED:20220602T040716Z
LAST-MODIFIED:20220602T040716Z
UID:1806-1656702000-1656705600@deanzasprings.com
SUMMARY:7:00 PM Bingo
DESCRIPTION:
URL:https://deanzasprings.com/event/700-pm-bingo-4/
END:VEVENT
END:VCALENDAR