BEGIN:VCALENDAR
VERSION:2.0
PRODID:-//DeAnza Springs Resort - ECPv6.14.2//NONSGML v1.0//EN
CALSCALE:GREGORIAN
METHOD:PUBLISH
X-WR-CALNAME:DeAnza Springs Resort
X-ORIGINAL-URL:https://deanzasprings.com
X-WR-CALDESC:Events for DeAnza Springs Resort
REFRESH-INTERVAL;VALUE=DURATION:PT1H
X-Robots-Tag:noindex
X-PUBLISHED-TTL:PT1H
BEGIN:VTIMEZONE
TZID:America/Los_Angeles
BEGIN:DAYLIGHT
TZOFFSETFROM:-0800
TZOFFSETTO:-0700
TZNAME:PDT
DTSTART:20220313T100000
END:DAYLIGHT
BEGIN:STANDARD
TZOFFSETFROM:-0700
TZOFFSETTO:-0800
TZNAME:PST
DTSTART:20221106T090000
END:STANDARD
END:VTIMEZONE
BEGIN:VEVENT
DTSTART;TZID=America/Los_Angeles:20220828T110000
DTEND;TZID=America/Los_Angeles:20220828T110000
DTSTAMP:20260423T170717
CREATED:20220627T192341Z
LAST-MODIFIED:20220627T192341Z
UID:2661-1661684400-1661684400@deanzasprings.com
SUMMARY:11:11AM Sound Healing
DESCRIPTION:
URL:https://deanzasprings.com/event/1111am-sound-healing-8/
CATEGORIES:DSR
END:VEVENT
BEGIN:VEVENT
DTSTART;TZID=America/Los_Angeles:20220828T110000
DTEND;TZID=America/Los_Angeles:20220828T110000
DTSTAMP:20260423T170717
CREATED:20220627T193659Z
LAST-MODIFIED:20220627T193659Z
UID:2710-1661684400-1661684400@deanzasprings.com
SUMMARY:12:00PM Sunday Worship
DESCRIPTION:
URL:https://deanzasprings.com/event/1200pm-sunday-worship-8/
CATEGORIES:DSR
END:VEVENT
BEGIN:VEVENT
DTSTART;TZID=America/Los_Angeles:20220828T110000
DTEND;TZID=America/Los_Angeles:20220828T110000
DTSTAMP:20260423T170717
CREATED:20220627T195216Z
LAST-MODIFIED:20220627T195216Z
UID:2768-1661684400-1661684400@deanzasprings.com
SUMMARY:12:00PM Billiards Tournament
DESCRIPTION:
URL:https://deanzasprings.com/event/1200pm-billiards-tournament-8/
CATEGORIES:DSR
END:VEVENT
BEGIN:VEVENT
DTSTART;VALUE=DATE:20220902
DTEND;VALUE=DATE:20220906
DTSTAMP:20260423T170717
CREATED:20220602T044113Z
LAST-MODIFIED:20220901T171517Z
UID:1876-1662076800-1662422399@deanzasprings.com
SUMMARY:NUDESTOCK!
DESCRIPTION:
URL:https://deanzasprings.com/event/nudestock/
CATEGORIES:DSR
END:VEVENT
BEGIN:VEVENT
DTSTART;TZID=America/Los_Angeles:20220904T110000
DTEND;TZID=America/Los_Angeles:20220904T110000
DTSTAMP:20260423T170717
CREATED:20220627T192442Z
LAST-MODIFIED:20220627T192442Z
UID:2668-1662289200-1662289200@deanzasprings.com
SUMMARY:11:11AM Sound Healing
DESCRIPTION:
URL:https://deanzasprings.com/event/1111am-sound-healing-9/
CATEGORIES:DSR
END:VEVENT
BEGIN:VEVENT
DTSTART;TZID=America/Los_Angeles:20220904T110000
DTEND;TZID=America/Los_Angeles:20220904T110000
DTSTAMP:20260423T170717
CREATED:20220627T193800Z
LAST-MODIFIED:20220627T193800Z
UID:2718-1662289200-1662289200@deanzasprings.com
SUMMARY:12:00PM Sunday Worship
DESCRIPTION:
URL:https://deanzasprings.com/event/1200pm-sunday-worship-9/
CATEGORIES:DSR
END:VEVENT
BEGIN:VEVENT
DTSTART;TZID=America/Los_Angeles:20220904T110000
DTEND;TZID=America/Los_Angeles:20220904T110000
DTSTAMP:20260423T170717
CREATED:20220627T195343Z
LAST-MODIFIED:20220627T195343Z
UID:2767-1662289200-1662289200@deanzasprings.com
SUMMARY:12:00PM Billiards Tournament
DESCRIPTION:
URL:https://deanzasprings.com/event/1200pm-billiards-tournament-12/
CATEGORIES:DSR
END:VEVENT
BEGIN:VEVENT
DTSTART;TZID=America/Los_Angeles:20220911T110000
DTEND;TZID=America/Los_Angeles:20220911T110000
DTSTAMP:20260423T170717
CREATED:20220627T192500Z
LAST-MODIFIED:20220627T192500Z
UID:2667-1662894000-1662894000@deanzasprings.com
SUMMARY:11:11AM Sound Healing
DESCRIPTION:
URL:https://deanzasprings.com/event/1111am-sound-healing-10/
CATEGORIES:DSR
END:VEVENT
BEGIN:VEVENT
DTSTART;TZID=America/Los_Angeles:20220911T110000
DTEND;TZID=America/Los_Angeles:20220911T110000
DTSTAMP:20260423T170717
CREATED:20220627T193829Z
LAST-MODIFIED:20220627T193906Z
UID:2717-1662894000-1662894000@deanzasprings.com
SUMMARY:12:00PM Sunday Worship
DESCRIPTION:
URL:https://deanzasprings.com/event/1200pm-sunday-worship-10/
CATEGORIES:DSR
END:VEVENT
BEGIN:VEVENT
DTSTART;TZID=America/Los_Angeles:20220911T110000
DTEND;TZID=America/Los_Angeles:20220911T110000
DTSTAMP:20260423T170717
CREATED:20220627T195322Z
LAST-MODIFIED:20220627T195322Z
UID:2766-1662894000-1662894000@deanzasprings.com
SUMMARY:12:00PM Billiards Tournament
DESCRIPTION:
URL:https://deanzasprings.com/event/1200pm-billiards-tournament-11/
CATEGORIES:DSR
END:VEVENT
BEGIN:VEVENT
DTSTART;TZID=America/Los_Angeles:20220912T160000
DTEND;TZID=America/Los_Angeles:20220912T233000
DTSTAMP:20260423T170717
CREATED:20220901T173654Z
LAST-MODIFIED:20220901T173654Z
UID:3012-1662998400-1663025400@deanzasprings.com
SUMMARY:4:00PM Football In The Lounge
DESCRIPTION:
URL:https://deanzasprings.com/event/400pm-football-in-the-lounge-19/
END:VEVENT
BEGIN:VEVENT
DTSTART;TZID=America/Los_Angeles:20220917T170000
DTEND;TZID=America/Los_Angeles:20220917T200000
DTSTAMP:20260423T170717
CREATED:20220901T180048Z
LAST-MODIFIED:20220901T180048Z
UID:3048-1663434000-1663444800@deanzasprings.com
SUMMARY:5:00PM Sit Down Dinner
DESCRIPTION:
URL:https://deanzasprings.com/event/500pm-sit-down-dinner/
END:VEVENT
BEGIN:VEVENT
DTSTART;TZID=America/Los_Angeles:20220918T100000
DTEND;TZID=America/Los_Angeles:20220918T110000
DTSTAMP:20260423T170717
CREATED:20220901T180251Z
LAST-MODIFIED:20220901T180347Z
UID:3052-1663495200-1663498800@deanzasprings.com
SUMMARY:10:00AM Football
DESCRIPTION:
URL:https://deanzasprings.com/event/100am-football/
CATEGORIES:DSR
END:VEVENT
BEGIN:VEVENT
DTSTART;TZID=America/Los_Angeles:20220918T110000
DTEND;TZID=America/Los_Angeles:20220918T110000
DTSTAMP:20260423T170717
CREATED:20220627T192521Z
LAST-MODIFIED:20220627T192521Z
UID:2670-1663498800-1663498800@deanzasprings.com
SUMMARY:11:11AM Sound Healing
DESCRIPTION:
URL:https://deanzasprings.com/event/1111am-sound-healing-11/
CATEGORIES:DSR
END:VEVENT
BEGIN:VEVENT
DTSTART;TZID=America/Los_Angeles:20220918T110000
DTEND;TZID=America/Los_Angeles:20220918T110000
DTSTAMP:20260423T170717
CREATED:20220627T193930Z
LAST-MODIFIED:20220627T193930Z
UID:2720-1663498800-1663498800@deanzasprings.com
SUMMARY:12:00PM Sunday Worship
DESCRIPTION:
URL:https://deanzasprings.com/event/1200pm-sunday-worship-11/
CATEGORIES:DSR
END:VEVENT
BEGIN:VEVENT
DTSTART;TZID=America/Los_Angeles:20220918T110000
DTEND;TZID=America/Los_Angeles:20220918T110000
DTSTAMP:20260423T170717
CREATED:20220627T195258Z
LAST-MODIFIED:20220627T195258Z
UID:2765-1663498800-1663498800@deanzasprings.com
SUMMARY:12:00PM Billiards Tournament
DESCRIPTION:
URL:https://deanzasprings.com/event/1200pm-billiards-tournament-10/
CATEGORIES:DSR
END:VEVENT
BEGIN:VEVENT
DTSTART;TZID=America/Los_Angeles:20220919T160000
DTEND;TZID=America/Los_Angeles:20220919T233000
DTSTAMP:20260423T170717
CREATED:20220901T173712Z
LAST-MODIFIED:20220901T173712Z
UID:3014-1663603200-1663630200@deanzasprings.com
SUMMARY:4:00PM Football In The Lounge
DESCRIPTION:
URL:https://deanzasprings.com/event/400pm-football-in-the-lounge-20/
END:VEVENT
BEGIN:VEVENT
DTSTART;TZID=America/Los_Angeles:20220924T170000
DTEND;TZID=America/Los_Angeles:20220924T200000
DTSTAMP:20260423T170717
CREATED:20220901T180133Z
LAST-MODIFIED:20220901T180133Z
UID:3050-1664038800-1664049600@deanzasprings.com
SUMMARY:5:00PM Great Gatsby Night
DESCRIPTION:
URL:https://deanzasprings.com/event/500pm-great-gatsby-night/
END:VEVENT
BEGIN:VEVENT
DTSTART;TZID=America/Los_Angeles:20220925T090000
DTEND;TZID=America/Los_Angeles:20220925T110000
DTSTAMP:20260423T170717
CREATED:20220901T180547Z
LAST-MODIFIED:20220901T180611Z
UID:3055-1664096400-1664103600@deanzasprings.com
SUMMARY:9:00AM Bare Booty 5k
DESCRIPTION:
URL:https://deanzasprings.com/event/900am-bare-booty-5k/
CATEGORIES:DSR
END:VEVENT
BEGIN:VEVENT
DTSTART;TZID=America/Los_Angeles:20220925T110000
DTEND;TZID=America/Los_Angeles:20220925T110000
DTSTAMP:20260423T170717
CREATED:20220627T192545Z
LAST-MODIFIED:20220627T192619Z
UID:2669-1664103600-1664103600@deanzasprings.com
SUMMARY:11:11AM Sound Healing
DESCRIPTION:
URL:https://deanzasprings.com/event/1111am-sound-healing-12/
CATEGORIES:DSR
END:VEVENT
BEGIN:VEVENT
DTSTART;TZID=America/Los_Angeles:20220925T110000
DTEND;TZID=America/Los_Angeles:20220925T110000
DTSTAMP:20260423T170717
CREATED:20220627T193958Z
LAST-MODIFIED:20220627T193958Z
UID:2719-1664103600-1664103600@deanzasprings.com
SUMMARY:12:00PM Sunday Worship
DESCRIPTION:
URL:https://deanzasprings.com/event/1200pm-sunday-worship-12/
CATEGORIES:DSR
END:VEVENT
BEGIN:VEVENT
DTSTART;TZID=America/Los_Angeles:20220925T110000
DTEND;TZID=America/Los_Angeles:20220925T110000
DTSTAMP:20260423T170717
CREATED:20220627T195232Z
LAST-MODIFIED:20220627T195232Z
UID:2764-1664103600-1664103600@deanzasprings.com
SUMMARY:12:00PM Billiards Tournament
DESCRIPTION:
URL:https://deanzasprings.com/event/1200pm-billiards-tournament-9/
CATEGORIES:DSR
END:VEVENT
BEGIN:VEVENT
DTSTART;TZID=America/Los_Angeles:20220926T160000
DTEND;TZID=America/Los_Angeles:20220926T233000
DTSTAMP:20260423T170717
CREATED:20220901T173725Z
LAST-MODIFIED:20220901T173725Z
UID:3016-1664208000-1664235000@deanzasprings.com
SUMMARY:4:00PM Football In The Lounge
DESCRIPTION:
URL:https://deanzasprings.com/event/400pm-football-in-the-lounge-21/
END:VEVENT
BEGIN:VEVENT
DTSTART;TZID=America/Los_Angeles:20220930T140000
DTEND;TZID=America/Los_Angeles:20220930T160000
DTSTAMP:20260423T170717
CREATED:20220929T043829Z
LAST-MODIFIED:20220929T144406Z
UID:3060-1664546400-1664553600@deanzasprings.com
SUMMARY:2PM Water Volleyball
DESCRIPTION:
URL:https://deanzasprings.com/event/2pm-water-volleyball/
CATEGORIES:DSR
END:VEVENT
BEGIN:VEVENT
DTSTART;TZID=America/Los_Angeles:20220930T153000
DTEND;TZID=America/Los_Angeles:20220930T173000
DTSTAMP:20260423T170717
CREATED:20220929T145906Z
LAST-MODIFIED:20220929T150050Z
UID:3167-1664551800-1664559000@deanzasprings.com
SUMMARY:3:30PM Beer & Hot Dogs
DESCRIPTION:
URL:https://deanzasprings.com/event/330pm-beer-hot-dogs/
CATEGORIES:DSR
END:VEVENT
BEGIN:VEVENT
DTSTART;TZID=America/Los_Angeles:20220930T160000
DTEND;TZID=America/Los_Angeles:20220930T180000
DTSTAMP:20260423T170717
CREATED:20220929T151903Z
LAST-MODIFIED:20220929T151903Z
UID:3251-1664553600-1664560800@deanzasprings.com
SUMMARY:4:00PM Free Movie
DESCRIPTION:
URL:https://deanzasprings.com/event/400pm-free-movie/
CATEGORIES:DSR
END:VEVENT
BEGIN:VEVENT
DTSTART;TZID=America/Los_Angeles:20220930T190000
DTEND;TZID=America/Los_Angeles:20220930T200000
DTSTAMP:20260423T170717
CREATED:20220929T150828Z
LAST-MODIFIED:20220929T150828Z
UID:3195-1664564400-1664568000@deanzasprings.com
SUMMARY:7:00PM Bingo
DESCRIPTION:
URL:https://deanzasprings.com/event/700pm-bingo/
CATEGORIES:DSR
END:VEVENT
BEGIN:VEVENT
DTSTART;TZID=America/Los_Angeles:20220930T200000
DTEND;TZID=America/Los_Angeles:20220930T210000
DTSTAMP:20260423T170717
CREATED:20220929T151348Z
LAST-MODIFIED:20220929T151348Z
UID:3223-1664568000-1664571600@deanzasprings.com
SUMMARY:8:00PM Karaoke
DESCRIPTION:
URL:https://deanzasprings.com/event/800pm-karaoke/
CATEGORIES:DSR
END:VEVENT
BEGIN:VEVENT
DTSTART;TZID=America/Los_Angeles:20221001T100000
DTEND;TZID=America/Los_Angeles:20221001T110000
DTSTAMP:20260423T170717
CREATED:20220929T152433Z
LAST-MODIFIED:20220929T152433Z
UID:3279-1664618400-1664622000@deanzasprings.com
SUMMARY:10:00AM Water Volleyball
DESCRIPTION:
URL:https://deanzasprings.com/event/1000am-water-volleyball-3/
CATEGORIES:DSR
END:VEVENT
BEGIN:VEVENT
DTSTART;TZID=America/Los_Angeles:20221001T130000
DTEND;TZID=America/Los_Angeles:20221001T150000
DTSTAMP:20260423T170717
CREATED:20220929T154222Z
LAST-MODIFIED:20220929T154222Z
UID:3363-1664629200-1664636400@deanzasprings.com
SUMMARY:1:00PM  Oktoberfest Beers & Brats
DESCRIPTION:
URL:https://deanzasprings.com/event/100pm-oktoberfest-beers-brats/
CATEGORIES:DSR
END:VEVENT
END:VCALENDAR