BEGIN:VCALENDAR
VERSION:2.0
PRODID:-//DeAnza Springs Resort - ECPv6.14.2//NONSGML v1.0//EN
CALSCALE:GREGORIAN
METHOD:PUBLISH
X-ORIGINAL-URL:https://deanzasprings.com
X-WR-CALDESC:Events for DeAnza Springs Resort
REFRESH-INTERVAL;VALUE=DURATION:PT1H
X-Robots-Tag:noindex
X-PUBLISHED-TTL:PT1H
BEGIN:VTIMEZONE
TZID:America/Los_Angeles
BEGIN:DAYLIGHT
TZOFFSETFROM:-0800
TZOFFSETTO:-0700
TZNAME:PDT
DTSTART:20230312T100000
END:DAYLIGHT
BEGIN:STANDARD
TZOFFSETFROM:-0700
TZOFFSETTO:-0800
TZNAME:PST
DTSTART:20231105T090000
END:STANDARD
END:VTIMEZONE
BEGIN:VEVENT
DTSTART;TZID=America/Los_Angeles:20230101T120000
DTEND;TZID=America/Los_Angeles:20230101T120000
DTSTAMP:20260421T132612
CREATED:20221213T060127Z
LAST-MODIFIED:20221213T060127Z
UID:3761-1672574400-1672574400@deanzasprings.com
SUMMARY:Billiards Tourney
DESCRIPTION:
URL:https://deanzasprings.com/event/billiards-tourney/
END:VEVENT
BEGIN:VEVENT
DTSTART;TZID=America/Los_Angeles:20230101T140000
DTEND;TZID=America/Los_Angeles:20230101T140000
DTSTAMP:20260421T132612
CREATED:20221213T060550Z
LAST-MODIFIED:20221213T060550Z
UID:3769-1672581600-1672581600@deanzasprings.com
SUMMARY:Water Volleyball
DESCRIPTION:
URL:https://deanzasprings.com/event/water-volleyball-2/
END:VEVENT
BEGIN:VEVENT
DTSTART;TZID=America/Los_Angeles:20230104T140000
DTEND;TZID=America/Los_Angeles:20230104T140000
DTSTAMP:20260421T132612
CREATED:20221213T163425Z
LAST-MODIFIED:20221213T163425Z
UID:3776-1672840800-1672840800@deanzasprings.com
SUMMARY:Water Volleyball
DESCRIPTION:
URL:https://deanzasprings.com/event/water-volleyball-3/
END:VEVENT
BEGIN:VEVENT
DTSTART;VALUE=DATE:20230421
DTEND;VALUE=DATE:20230424
DTSTAMP:20260421T132612
CREATED:20221213T182939Z
LAST-MODIFIED:20221213T182939Z
UID:3831-1682035200-1682294399@deanzasprings.com
SUMMARY:BOOZEFIGHTERS
DESCRIPTION:
URL:https://deanzasprings.com/event/boozefighters/
END:VEVENT
BEGIN:VEVENT
DTSTART;TZID=America/Los_Angeles:20230106T140000
DTEND;TZID=America/Los_Angeles:20230106T140000
DTSTAMP:20260421T132612
CREATED:20221213T171548Z
LAST-MODIFIED:20221213T171548Z
UID:3782-1673013600-1673013600@deanzasprings.com
SUMMARY:Water Volleyball
DESCRIPTION:
URL:https://deanzasprings.com/event/water-volleyball-4/
END:VEVENT
BEGIN:VEVENT
DTSTART;TZID=America/Los_Angeles:20230106T200000
DTEND;TZID=America/Los_Angeles:20230106T200000
DTSTAMP:20260421T132612
CREATED:20221213T171733Z
LAST-MODIFIED:20221213T171733Z
UID:3788-1673035200-1673035200@deanzasprings.com
SUMMARY:Karaoke
DESCRIPTION:
URL:https://deanzasprings.com/event/karaoke/
END:VEVENT
BEGIN:VEVENT
DTSTART;TZID=America/Los_Angeles:20230107T100000
DTEND;TZID=America/Los_Angeles:20230107T100000
DTSTAMP:20260421T132612
CREATED:20221213T171922Z
LAST-MODIFIED:20221213T171922Z
UID:3791-1673085600-1673085600@deanzasprings.com
SUMMARY:Water Volleyball
DESCRIPTION:
URL:https://deanzasprings.com/event/water-volleyball-5/
END:VEVENT
BEGIN:VEVENT
DTSTART;TZID=America/Los_Angeles:20230107T140000
DTEND;TZID=America/Los_Angeles:20230107T140000
DTSTAMP:20260421T132612
CREATED:20221213T172025Z
LAST-MODIFIED:20221213T172025Z
UID:3794-1673100000-1673100000@deanzasprings.com
SUMMARY:Water Volleyball
DESCRIPTION:
URL:https://deanzasprings.com/event/water-volleyball-6/
END:VEVENT
BEGIN:VEVENT
DTSTART;TZID=America/Los_Angeles:20230107T160000
DTEND;TZID=America/Los_Angeles:20230107T160000
DTSTAMP:20260421T132612
CREATED:20221213T172153Z
LAST-MODIFIED:20221213T172153Z
UID:3796-1673107200-1673107200@deanzasprings.com
SUMMARY:Billiard Tournament
DESCRIPTION:
URL:https://deanzasprings.com/event/billiard-tournament/
END:VEVENT
BEGIN:VEVENT
DTSTART;TZID=America/Los_Angeles:20230101T100000
DTEND;TZID=America/Los_Angeles:20230101T100000
DTSTAMP:20260421T132612
CREATED:20221212T234138Z
LAST-MODIFIED:20221213T060519Z
UID:3712-1672567200-1672567200@deanzasprings.com
SUMMARY:Water Volleyball
DESCRIPTION:
URL:https://deanzasprings.com/event/water-volleyball/
END:VEVENT
BEGIN:VEVENT
DTSTART;TZID=America/Los_Angeles:20230101T111100
DTEND;TZID=America/Los_Angeles:20230101T111100
DTSTAMP:20260421T132612
CREATED:20221213T055754Z
LAST-MODIFIED:20221213T055754Z
UID:3758-1672571460-1672571460@deanzasprings.com
SUMMARY:Sound Healing
DESCRIPTION:
URL:https://deanzasprings.com/event/sound-healing/
END:VEVENT
BEGIN:VEVENT
DTSTART;TZID=America/Los_Angeles:20230101T120000
DTEND;TZID=America/Los_Angeles:20230101T120000
DTSTAMP:20260421T132612
CREATED:20221213T060127Z
LAST-MODIFIED:20221213T060127Z
UID:3761-1672574400-1672574400@deanzasprings.com
SUMMARY:Billiards Tourney
DESCRIPTION:
URL:https://deanzasprings.com/event/billiards-tourney/
END:VEVENT
BEGIN:VEVENT
DTSTART;TZID=America/Los_Angeles:20230101T140000
DTEND;TZID=America/Los_Angeles:20230101T140000
DTSTAMP:20260421T132612
CREATED:20221213T060550Z
LAST-MODIFIED:20221213T060550Z
UID:3769-1672581600-1672581600@deanzasprings.com
SUMMARY:Water Volleyball
DESCRIPTION:
URL:https://deanzasprings.com/event/water-volleyball-2/
END:VEVENT
BEGIN:VEVENT
DTSTART;TZID=America/Los_Angeles:20230104T140000
DTEND;TZID=America/Los_Angeles:20230104T140000
DTSTAMP:20260421T132612
CREATED:20221213T163425Z
LAST-MODIFIED:20221213T163425Z
UID:3776-1672840800-1672840800@deanzasprings.com
SUMMARY:Water Volleyball
DESCRIPTION:
URL:https://deanzasprings.com/event/water-volleyball-3/
END:VEVENT
BEGIN:VEVENT
DTSTART;VALUE=DATE:20230428
DTEND;VALUE=DATE:20230502
DTSTAMP:20260421T132612
CREATED:20221213T183027Z
LAST-MODIFIED:20221213T183027Z
UID:3833-1682640000-1682985599@deanzasprings.com
SUMMARY:Lovemachine
DESCRIPTION:
URL:https://deanzasprings.com/event/lovemachine-2/
END:VEVENT
BEGIN:VEVENT
DTSTART;TZID=America/Los_Angeles:20230106T140000
DTEND;TZID=America/Los_Angeles:20230106T140000
DTSTAMP:20260421T132612
CREATED:20221213T171548Z
LAST-MODIFIED:20221213T171548Z
UID:3782-1673013600-1673013600@deanzasprings.com
SUMMARY:Water Volleyball
DESCRIPTION:
URL:https://deanzasprings.com/event/water-volleyball-4/
END:VEVENT
BEGIN:VEVENT
DTSTART;TZID=America/Los_Angeles:20230106T200000
DTEND;TZID=America/Los_Angeles:20230106T200000
DTSTAMP:20260421T132612
CREATED:20221213T171733Z
LAST-MODIFIED:20221213T171733Z
UID:3788-1673035200-1673035200@deanzasprings.com
SUMMARY:Karaoke
DESCRIPTION:
URL:https://deanzasprings.com/event/karaoke/
END:VEVENT
BEGIN:VEVENT
DTSTART;TZID=America/Los_Angeles:20230107T100000
DTEND;TZID=America/Los_Angeles:20230107T100000
DTSTAMP:20260421T132612
CREATED:20221213T171922Z
LAST-MODIFIED:20221213T171922Z
UID:3791-1673085600-1673085600@deanzasprings.com
SUMMARY:Water Volleyball
DESCRIPTION:
URL:https://deanzasprings.com/event/water-volleyball-5/
END:VEVENT
BEGIN:VEVENT
DTSTART;TZID=America/Los_Angeles:20230107T140000
DTEND;TZID=America/Los_Angeles:20230107T140000
DTSTAMP:20260421T132612
CREATED:20221213T172025Z
LAST-MODIFIED:20221213T172025Z
UID:3794-1673100000-1673100000@deanzasprings.com
SUMMARY:Water Volleyball
DESCRIPTION:
URL:https://deanzasprings.com/event/water-volleyball-6/
END:VEVENT
BEGIN:VEVENT
DTSTART;TZID=America/Los_Angeles:20230107T160000
DTEND;TZID=America/Los_Angeles:20230107T160000
DTSTAMP:20260421T132612
CREATED:20221213T172153Z
LAST-MODIFIED:20221213T172153Z
UID:3796-1673107200-1673107200@deanzasprings.com
SUMMARY:Billiard Tournament
DESCRIPTION:
URL:https://deanzasprings.com/event/billiard-tournament/
END:VEVENT
BEGIN:VEVENT
DTSTART;TZID=America/Los_Angeles:20230429T160000
DTEND;TZID=America/Los_Angeles:20230429T160000
DTSTAMP:20260421T132612
CREATED:20221213T182828Z
LAST-MODIFIED:20221213T182828Z
UID:3829-1682784000-1682784000@deanzasprings.com
SUMMARY:Birthdays Bash
DESCRIPTION:
URL:https://deanzasprings.com/event/birthdays-bash-4/
END:VEVENT
BEGIN:VEVENT
DTSTART;TZID=America/Los_Angeles:20230101T100000
DTEND;TZID=America/Los_Angeles:20230101T100000
DTSTAMP:20260421T132612
CREATED:20221212T234138Z
LAST-MODIFIED:20221213T060519Z
UID:3712-1672567200-1672567200@deanzasprings.com
SUMMARY:Water Volleyball
DESCRIPTION:
URL:https://deanzasprings.com/event/water-volleyball/
END:VEVENT
BEGIN:VEVENT
DTSTART;TZID=America/Los_Angeles:20230101T111100
DTEND;TZID=America/Los_Angeles:20230101T111100
DTSTAMP:20260421T132612
CREATED:20221213T055754Z
LAST-MODIFIED:20221213T055754Z
UID:3758-1672571460-1672571460@deanzasprings.com
SUMMARY:Sound Healing
DESCRIPTION:
URL:https://deanzasprings.com/event/sound-healing/
END:VEVENT
BEGIN:VEVENT
DTSTART;TZID=America/Los_Angeles:20230101T120000
DTEND;TZID=America/Los_Angeles:20230101T120000
DTSTAMP:20260421T132612
CREATED:20221213T060127Z
LAST-MODIFIED:20221213T060127Z
UID:3761-1672574400-1672574400@deanzasprings.com
SUMMARY:Billiards Tourney
DESCRIPTION:
URL:https://deanzasprings.com/event/billiards-tourney/
END:VEVENT
BEGIN:VEVENT
DTSTART;TZID=America/Los_Angeles:20230101T140000
DTEND;TZID=America/Los_Angeles:20230101T140000
DTSTAMP:20260421T132612
CREATED:20221213T060550Z
LAST-MODIFIED:20221213T060550Z
UID:3769-1672581600-1672581600@deanzasprings.com
SUMMARY:Water Volleyball
DESCRIPTION:
URL:https://deanzasprings.com/event/water-volleyball-2/
END:VEVENT
BEGIN:VEVENT
DTSTART;TZID=America/Los_Angeles:20230104T140000
DTEND;TZID=America/Los_Angeles:20230104T140000
DTSTAMP:20260421T132612
CREATED:20221213T163425Z
LAST-MODIFIED:20221213T163425Z
UID:3776-1672840800-1672840800@deanzasprings.com
SUMMARY:Water Volleyball
DESCRIPTION:
URL:https://deanzasprings.com/event/water-volleyball-3/
END:VEVENT
BEGIN:VEVENT
DTSTART;VALUE=DATE:20230505
DTEND;VALUE=DATE:20230508
DTSTAMP:20260421T132612
CREATED:20230412T180546Z
LAST-MODIFIED:20230412T180546Z
UID:4157-1683244800-1683503999@deanzasprings.com
SUMMARY:Burning Vans Festival
DESCRIPTION:https://www.burningvansfestival.com/ \n 
URL:https://deanzasprings.com/event/burning-vans-festival/
END:VEVENT
BEGIN:VEVENT
DTSTART;TZID=America/Los_Angeles:20230106T140000
DTEND;TZID=America/Los_Angeles:20230106T140000
DTSTAMP:20260421T132612
CREATED:20221213T171548Z
LAST-MODIFIED:20221213T171548Z
UID:3782-1673013600-1673013600@deanzasprings.com
SUMMARY:Water Volleyball
DESCRIPTION:
URL:https://deanzasprings.com/event/water-volleyball-4/
END:VEVENT
BEGIN:VEVENT
DTSTART;TZID=America/Los_Angeles:20230106T200000
DTEND;TZID=America/Los_Angeles:20230106T200000
DTSTAMP:20260421T132612
CREATED:20221213T171733Z
LAST-MODIFIED:20221213T171733Z
UID:3788-1673035200-1673035200@deanzasprings.com
SUMMARY:Karaoke
DESCRIPTION:
URL:https://deanzasprings.com/event/karaoke/
END:VEVENT
BEGIN:VEVENT
DTSTART;TZID=America/Los_Angeles:20230107T100000
DTEND;TZID=America/Los_Angeles:20230107T100000
DTSTAMP:20260421T132612
CREATED:20221213T171922Z
LAST-MODIFIED:20221213T171922Z
UID:3791-1673085600-1673085600@deanzasprings.com
SUMMARY:Water Volleyball
DESCRIPTION:
URL:https://deanzasprings.com/event/water-volleyball-5/
END:VEVENT
END:VCALENDAR