BEGIN:VCALENDAR
VERSION:2.0
PRODID:-//DeAnza Springs Resort - ECPv6.14.2//NONSGML v1.0//EN
CALSCALE:GREGORIAN
METHOD:PUBLISH
X-ORIGINAL-URL:https://deanzasprings.com
X-WR-CALDESC:Events for DeAnza Springs Resort
REFRESH-INTERVAL;VALUE=DURATION:PT1H
X-Robots-Tag:noindex
X-PUBLISHED-TTL:PT1H
BEGIN:VTIMEZONE
TZID:America/Los_Angeles
BEGIN:DAYLIGHT
TZOFFSETFROM:-0800
TZOFFSETTO:-0700
TZNAME:PDT
DTSTART:20220313T100000
END:DAYLIGHT
BEGIN:STANDARD
TZOFFSETFROM:-0700
TZOFFSETTO:-0800
TZNAME:PST
DTSTART:20221106T090000
END:STANDARD
END:VTIMEZONE
BEGIN:VEVENT
DTSTART;TZID=America/Los_Angeles:20220617T120000
DTEND;TZID=America/Los_Angeles:20220617T120000
DTSTAMP:20260423T074023
CREATED:20220518T172231Z
LAST-MODIFIED:20220519T002444Z
UID:1738-1655467200-1655467200@deanzasprings.com
SUMMARY:7:00 PM Trivia Night
DESCRIPTION:
URL:https://deanzasprings.com/event/700-pm-bingo-2/
END:VEVENT
BEGIN:VEVENT
DTSTART;TZID=America/Los_Angeles:20220617T200000
DTEND;TZID=America/Los_Angeles:20220617T200000
DTSTAMP:20260423T074023
CREATED:20220518T172435Z
LAST-MODIFIED:20220518T172435Z
UID:1742-1655496000-1655496000@deanzasprings.com
SUMMARY:8:00 PM Karaoke Until Closing
DESCRIPTION:
URL:https://deanzasprings.com/event/800-pm-karaoke-until-closing-2/
END:VEVENT
BEGIN:VEVENT
DTSTART;TZID=America/Los_Angeles:20220618T200000
DTEND;TZID=America/Los_Angeles:20220618T200000
DTSTAMP:20260423T074023
CREATED:20220518T172929Z
LAST-MODIFIED:20220518T172929Z
UID:1754-1655582400-1655582400@deanzasprings.com
SUMMARY:Live Band: Whole Sha-Bang @ 8pm
DESCRIPTION:
URL:https://deanzasprings.com/event/live-band-whole-sha-bang-8pm/
END:VEVENT
BEGIN:VEVENT
DTSTART;TZID=America/Los_Angeles:20220619T120000
DTEND;TZID=America/Los_Angeles:20220619T120000
DTSTAMP:20260423T074023
CREATED:20220518T172726Z
LAST-MODIFIED:20220518T172726Z
UID:1750-1655640000-1655640000@deanzasprings.com
SUMMARY:Sunday Worship @ 12pm
DESCRIPTION:
URL:https://deanzasprings.com/event/sunday-worship-12pm-2/
END:VEVENT
BEGIN:VEVENT
DTSTART;TZID=America/Los_Angeles:20220624T120000
DTEND;TZID=America/Los_Angeles:20220624T120000
DTSTAMP:20260423T074023
CREATED:20220519T002541Z
LAST-MODIFIED:20220519T002541Z
UID:1759-1656072000-1656072000@deanzasprings.com
SUMMARY:7:00 PM Bingo
DESCRIPTION:
URL:https://deanzasprings.com/event/700-pm-bingo/
END:VEVENT
BEGIN:VEVENT
DTSTART;TZID=America/Los_Angeles:20220624T200000
DTEND;TZID=America/Los_Angeles:20220624T200000
DTSTAMP:20260423T074023
CREATED:20220519T002616Z
LAST-MODIFIED:20220519T002616Z
UID:1761-1656100800-1656100800@deanzasprings.com
SUMMARY:8:00 PM Karaoke Until Closing
DESCRIPTION:
URL:https://deanzasprings.com/event/800-pm-karaoke-until-closing-3/
END:VEVENT
BEGIN:VEVENT
DTSTART;TZID=America/Los_Angeles:20220625T190000
DTEND;TZID=America/Los_Angeles:20220625T190000
DTSTAMP:20260423T074023
CREATED:20220518T173029Z
LAST-MODIFIED:20220518T173029Z
UID:1756-1656183600-1656183600@deanzasprings.com
SUMMARY:Outdoor Folk Festival (Silk Button Butchers @ 7pm)
DESCRIPTION:
URL:https://deanzasprings.com/event/outdoor-folk-festival-silk-button-butchers-7pm/
END:VEVENT
BEGIN:VEVENT
DTSTART;TZID=America/Los_Angeles:20220626T120000
DTEND;TZID=America/Los_Angeles:20220626T120000
DTSTAMP:20260423T074023
CREATED:20220518T172810Z
LAST-MODIFIED:20220518T172810Z
UID:1752-1656244800-1656244800@deanzasprings.com
SUMMARY:Sunday Worship @ 12pm
DESCRIPTION:
URL:https://deanzasprings.com/event/sunday-worship-12pm-3/
END:VEVENT
BEGIN:VEVENT
DTSTART;VALUE=DATE:20220701
DTEND;VALUE=DATE:20220705
DTSTAMP:20260423T074023
CREATED:20220608T054421Z
LAST-MODIFIED:20220608T054421Z
UID:1956-1656633600-1656979199@deanzasprings.com
SUMMARY:4th of July Weekend
DESCRIPTION:
URL:https://deanzasprings.com/event/4th-of-july-weekend/
END:VEVENT
BEGIN:VEVENT
DTSTART;TZID=America/Los_Angeles:20220701T190000
DTEND;TZID=America/Los_Angeles:20220701T200000
DTSTAMP:20260423T074023
CREATED:20220602T040716Z
LAST-MODIFIED:20220602T040716Z
UID:1806-1656702000-1656705600@deanzasprings.com
SUMMARY:7:00 PM Bingo
DESCRIPTION:
URL:https://deanzasprings.com/event/700-pm-bingo-4/
END:VEVENT
BEGIN:VEVENT
DTSTART;TZID=America/Los_Angeles:20220701T200000
DTEND;TZID=America/Los_Angeles:20220701T200000
DTSTAMP:20260423T074023
CREATED:20220602T040852Z
LAST-MODIFIED:20220602T040852Z
UID:1808-1656705600-1656705600@deanzasprings.com
SUMMARY:8:00 PM Karaoke Until Closing
DESCRIPTION:
URL:https://deanzasprings.com/event/800-pm-karaoke-until-closing-4/
END:VEVENT
BEGIN:VEVENT
DTSTART;TZID=America/Los_Angeles:20220702T080000
DTEND;TZID=America/Los_Angeles:20220702T080000
DTSTAMP:20260423T074023
CREATED:20220627T171141Z
LAST-MODIFIED:20220627T171341Z
UID:1966-1656748800-1656748800@deanzasprings.com
SUMMARY:8:00AM Pickleball
DESCRIPTION:
URL:https://deanzasprings.com/event/pickleball/
END:VEVENT
BEGIN:VEVENT
DTSTART;TZID=America/Los_Angeles:20220702T100000
DTEND;TZID=America/Los_Angeles:20220702T100000
DTSTAMP:20260423T074023
CREATED:20220627T171434Z
LAST-MODIFIED:20220627T171501Z
UID:1969-1656756000-1656756000@deanzasprings.com
SUMMARY:10:00AM Water Volleyball
DESCRIPTION:
URL:https://deanzasprings.com/event/1000am-water-volleyball/
END:VEVENT
BEGIN:VEVENT
DTSTART;TZID=America/Los_Angeles:20220702T130000
DTEND;TZID=America/Los_Angeles:20220702T130000
DTSTAMP:20260423T074023
CREATED:20220627T200028Z
LAST-MODIFIED:20220627T200028Z
UID:2803-1656766800-1656766800@deanzasprings.com
SUMMARY:1:00PM Cornhole Tournament
DESCRIPTION:
URL:https://deanzasprings.com/event/100pm-cornhole-tournament/
END:VEVENT
BEGIN:VEVENT
DTSTART;TZID=America/Los_Angeles:20220702T140000
DTEND;TZID=America/Los_Angeles:20220702T140000
DTSTAMP:20260423T074023
CREATED:20220627T200055Z
LAST-MODIFIED:20220627T200106Z
UID:2802-1656770400-1656770400@deanzasprings.com
SUMMARY:2:00PM Water Volleyball
DESCRIPTION:
URL:https://deanzasprings.com/event/200pm-water-volleyball/
END:VEVENT
BEGIN:VEVENT
DTSTART;TZID=America/Los_Angeles:20220702T160000
DTEND;TZID=America/Los_Angeles:20220702T160000
DTSTAMP:20260423T074023
CREATED:20220627T200157Z
LAST-MODIFIED:20220627T200157Z
UID:2807-1656777600-1656777600@deanzasprings.com
SUMMARY:4:00PM Water Balloon Relay Race
DESCRIPTION:
URL:https://deanzasprings.com/event/400pm-water-balloon-relay-race/
END:VEVENT
BEGIN:VEVENT
DTSTART;TZID=America/Los_Angeles:20220702T200000
DTEND;TZID=America/Los_Angeles:20220702T200000
DTSTAMP:20260423T074023
CREATED:20220602T040457Z
LAST-MODIFIED:20220602T040457Z
UID:1802-1656792000-1656792000@deanzasprings.com
SUMMARY:8:00 PM Live Band: (in Lounge)
DESCRIPTION:
URL:https://deanzasprings.com/event/800-pm-live-band-in-lounge/
END:VEVENT
BEGIN:VEVENT
DTSTART;TZID=America/Los_Angeles:20220702T200000
DTEND;TZID=America/Los_Angeles:20220702T200000
DTSTAMP:20260423T074023
CREATED:20220602T040527Z
LAST-MODIFIED:20220602T040527Z
UID:1804-1656792000-1656792000@deanzasprings.com
SUMMARY:8:00 PM Star Gazing Party (Temple Peak)
DESCRIPTION:
URL:https://deanzasprings.com/event/800-pm-star-gazing-party-temple-peak/
END:VEVENT
BEGIN:VEVENT
DTSTART;TZID=America/Los_Angeles:20220703T080000
DTEND;TZID=America/Los_Angeles:20220703T080000
DTSTAMP:20260423T074023
CREATED:20220627T200400Z
LAST-MODIFIED:20220627T200400Z
UID:2809-1656835200-1656835200@deanzasprings.com
SUMMARY:8:00AM Pickleball
DESCRIPTION:
URL:https://deanzasprings.com/event/800am-pickleball/
END:VEVENT
BEGIN:VEVENT
DTSTART;TZID=America/Los_Angeles:20220703T100000
DTEND;TZID=America/Los_Angeles:20220703T100000
DTSTAMP:20260423T074023
CREATED:20220627T200425Z
LAST-MODIFIED:20220627T200425Z
UID:2814-1656842400-1656842400@deanzasprings.com
SUMMARY:10:00AM Water Volleyball
DESCRIPTION:
URL:https://deanzasprings.com/event/1000am-water-volleyball-2/
END:VEVENT
BEGIN:VEVENT
DTSTART;TZID=America/Los_Angeles:20220703T130000
DTEND;TZID=America/Los_Angeles:20220703T130000
DTSTAMP:20260423T074023
CREATED:20220627T200505Z
LAST-MODIFIED:20220627T200829Z
UID:2813-1656853200-1656853200@deanzasprings.com
SUMMARY:1:00PM Frozen T-Shirt Contest
DESCRIPTION:
URL:https://deanzasprings.com/event/100pm-water-volleyball/
END:VEVENT
BEGIN:VEVENT
DTSTART;TZID=America/Los_Angeles:20220703T140000
DTEND;TZID=America/Los_Angeles:20220703T140000
DTSTAMP:20260423T074023
CREATED:20220627T200339Z
LAST-MODIFIED:20220627T200339Z
UID:2810-1656856800-1656856800@deanzasprings.com
SUMMARY:2:00PM Water Volleyball
DESCRIPTION:
URL:https://deanzasprings.com/event/200pm-water-volleyball-2/
END:VEVENT
BEGIN:VEVENT
DTSTART;TZID=America/Los_Angeles:20220703T160000
DTEND;TZID=America/Los_Angeles:20220703T160000
DTSTAMP:20260423T074023
CREATED:20220627T200553Z
LAST-MODIFIED:20220627T200743Z
UID:2801-1656864000-1656864000@deanzasprings.com
SUMMARY:4:00PM Ping Pong Tournament
DESCRIPTION:
URL:https://deanzasprings.com/event/400pm-ping-pong-tournament/
END:VEVENT
BEGIN:VEVENT
DTSTART;TZID=America/Los_Angeles:20220703T200000
DTEND;TZID=America/Los_Angeles:20220703T200000
DTSTAMP:20260423T074023
CREATED:20220602T041311Z
LAST-MODIFIED:20220602T041311Z
UID:1826-1656878400-1656878400@deanzasprings.com
SUMMARY:8:00PM DJ Dance Night (Lounge)
DESCRIPTION:
URL:https://deanzasprings.com/event/800pm-dj-dance-night-lounge/
END:VEVENT
BEGIN:VEVENT
DTSTART;TZID=America/Los_Angeles:20220708T190000
DTEND;TZID=America/Los_Angeles:20220708T190000
DTSTAMP:20260423T074023
CREATED:20220602T041353Z
LAST-MODIFIED:20220602T042704Z
UID:1828-1657306800-1657306800@deanzasprings.com
SUMMARY:7:00PM Trivia Night: Music
DESCRIPTION:
URL:https://deanzasprings.com/event/700pm-trivia-night-music/
END:VEVENT
BEGIN:VEVENT
DTSTART;TZID=America/Los_Angeles:20220708T200000
DTEND;TZID=America/Los_Angeles:20220708T200000
DTSTAMP:20260423T074023
CREATED:20220602T040923Z
LAST-MODIFIED:20220602T040923Z
UID:1810-1657310400-1657310400@deanzasprings.com
SUMMARY:8:00 PM Karaoke Until Closing
DESCRIPTION:
URL:https://deanzasprings.com/event/800-pm-karaoke-until-closing-5/
END:VEVENT
BEGIN:VEVENT
DTSTART;VALUE=DATE:20220709
DTEND;VALUE=DATE:20220710
DTSTAMP:20260423T074023
CREATED:20220602T041513Z
LAST-MODIFIED:20220608T054447Z
UID:1830-1657324800-1657411199@deanzasprings.com
SUMMARY:INTERNATIONAL SKINNY DIP DAY!
DESCRIPTION:
URL:https://deanzasprings.com/event/international-skinny-dip-day/
END:VEVENT
BEGIN:VEVENT
DTSTART;TZID=America/Los_Angeles:20220709T200000
DTEND;TZID=America/Los_Angeles:20220709T200000
DTSTAMP:20260423T074023
CREATED:20220602T041554Z
LAST-MODIFIED:20220602T041723Z
UID:1832-1657396800-1657396800@deanzasprings.com
SUMMARY:8:00PM Dive-In Movie "Jaws"
DESCRIPTION:
URL:https://deanzasprings.com/event/800pm-dive-in-movie-jaws/
END:VEVENT
BEGIN:VEVENT
DTSTART;TZID=America/Los_Angeles:20220709T210000
DTEND;TZID=America/Los_Angeles:20220709T210000
DTSTAMP:20260423T074023
CREATED:20220602T041626Z
LAST-MODIFIED:20220602T041639Z
UID:1834-1657400400-1657400400@deanzasprings.com
SUMMARY:9:00PM Live Acoustic Singer: Robert Bell
DESCRIPTION:
URL:https://deanzasprings.com/event/900pm-live-acoustic-singer-robert-bell/
END:VEVENT
BEGIN:VEVENT
DTSTART;TZID=America/Los_Angeles:20220710T110000
DTEND;TZID=America/Los_Angeles:20220710T110000
DTSTAMP:20260423T074023
CREATED:20220627T172820Z
LAST-MODIFIED:20220627T191912Z
UID:2178-1657450800-1657450800@deanzasprings.com
SUMMARY:11:11AM Sound Healing
DESCRIPTION:
URL:https://deanzasprings.com/event/1111am-sound-healing/
CATEGORIES:DSR
END:VEVENT
END:VCALENDAR