BEGIN:VCALENDAR
VERSION:2.0
PRODID:-//DeAnza Springs Resort - ECPv6.14.2//NONSGML v1.0//EN
CALSCALE:GREGORIAN
METHOD:PUBLISH
X-ORIGINAL-URL:https://deanzasprings.com
X-WR-CALDESC:Events for DeAnza Springs Resort
REFRESH-INTERVAL;VALUE=DURATION:PT1H
X-Robots-Tag:noindex
X-PUBLISHED-TTL:PT1H
BEGIN:VTIMEZONE
TZID:America/Los_Angeles
BEGIN:DAYLIGHT
TZOFFSETFROM:-0800
TZOFFSETTO:-0700
TZNAME:PDT
DTSTART:20220313T100000
END:DAYLIGHT
BEGIN:STANDARD
TZOFFSETFROM:-0700
TZOFFSETTO:-0800
TZNAME:PST
DTSTART:20221106T090000
END:STANDARD
END:VTIMEZONE
BEGIN:VEVENT
DTSTART;TZID=America/Los_Angeles:20220708T190000
DTEND;TZID=America/Los_Angeles:20220708T190000
DTSTAMP:20260423T102834
CREATED:20220602T041353Z
LAST-MODIFIED:20220602T042704Z
UID:1828-1657306800-1657306800@deanzasprings.com
SUMMARY:7:00PM Trivia Night: Music
DESCRIPTION:
URL:https://deanzasprings.com/event/700pm-trivia-night-music/
END:VEVENT
BEGIN:VEVENT
DTSTART;TZID=America/Los_Angeles:20220708T200000
DTEND;TZID=America/Los_Angeles:20220708T200000
DTSTAMP:20260423T102834
CREATED:20220602T040923Z
LAST-MODIFIED:20220602T040923Z
UID:1810-1657310400-1657310400@deanzasprings.com
SUMMARY:8:00 PM Karaoke Until Closing
DESCRIPTION:
URL:https://deanzasprings.com/event/800-pm-karaoke-until-closing-5/
END:VEVENT
BEGIN:VEVENT
DTSTART;VALUE=DATE:20220709
DTEND;VALUE=DATE:20220710
DTSTAMP:20260423T102834
CREATED:20220602T041513Z
LAST-MODIFIED:20220608T054447Z
UID:1830-1657324800-1657411199@deanzasprings.com
SUMMARY:INTERNATIONAL SKINNY DIP DAY!
DESCRIPTION:
URL:https://deanzasprings.com/event/international-skinny-dip-day/
END:VEVENT
BEGIN:VEVENT
DTSTART;TZID=America/Los_Angeles:20220709T200000
DTEND;TZID=America/Los_Angeles:20220709T200000
DTSTAMP:20260423T102834
CREATED:20220602T041554Z
LAST-MODIFIED:20220602T041723Z
UID:1832-1657396800-1657396800@deanzasprings.com
SUMMARY:8:00PM Dive-In Movie "Jaws"
DESCRIPTION:
URL:https://deanzasprings.com/event/800pm-dive-in-movie-jaws/
END:VEVENT
BEGIN:VEVENT
DTSTART;TZID=America/Los_Angeles:20220709T210000
DTEND;TZID=America/Los_Angeles:20220709T210000
DTSTAMP:20260423T102834
CREATED:20220602T041626Z
LAST-MODIFIED:20220602T041639Z
UID:1834-1657400400-1657400400@deanzasprings.com
SUMMARY:9:00PM Live Acoustic Singer: Robert Bell
DESCRIPTION:
URL:https://deanzasprings.com/event/900pm-live-acoustic-singer-robert-bell/
END:VEVENT
BEGIN:VEVENT
DTSTART;TZID=America/Los_Angeles:20220710T110000
DTEND;TZID=America/Los_Angeles:20220710T110000
DTSTAMP:20260423T102834
CREATED:20220627T172820Z
LAST-MODIFIED:20220627T191912Z
UID:2178-1657450800-1657450800@deanzasprings.com
SUMMARY:11:11AM Sound Healing
DESCRIPTION:
URL:https://deanzasprings.com/event/1111am-sound-healing/
CATEGORIES:DSR
END:VEVENT
BEGIN:VEVENT
DTSTART;TZID=America/Los_Angeles:20220710T110000
DTEND;TZID=America/Los_Angeles:20220710T110000
DTSTAMP:20260423T102834
CREATED:20220627T193355Z
LAST-MODIFIED:20220627T193355Z
UID:2701-1657450800-1657450800@deanzasprings.com
SUMMARY:12:00PM Sunday Worship
DESCRIPTION:
URL:https://deanzasprings.com/event/1200pm-sunday-worship/
CATEGORIES:DSR
END:VEVENT
BEGIN:VEVENT
DTSTART;TZID=America/Los_Angeles:20220710T110000
DTEND;TZID=America/Los_Angeles:20220710T110000
DTSTAMP:20260423T102834
CREATED:20220627T194858Z
LAST-MODIFIED:20220627T194858Z
UID:2775-1657450800-1657450800@deanzasprings.com
SUMMARY:12:00PM Billiards Tournament
DESCRIPTION:
URL:https://deanzasprings.com/event/1200pm-billiards-tournament/
CATEGORIES:DSR
END:VEVENT
BEGIN:VEVENT
DTSTART;TZID=America/Los_Angeles:20220715T190000
DTEND;TZID=America/Los_Angeles:20220715T200000
DTSTAMP:20260423T102834
CREATED:20220602T041842Z
LAST-MODIFIED:20220602T041842Z
UID:1836-1657911600-1657915200@deanzasprings.com
SUMMARY:7:00PM MeetUp Group (free\, hosted activity)
DESCRIPTION:
URL:https://deanzasprings.com/event/700pm-meetup-group-free-hosted-activity/
END:VEVENT
BEGIN:VEVENT
DTSTART;TZID=America/Los_Angeles:20220715T200000
DTEND;TZID=America/Los_Angeles:20220715T200000
DTSTAMP:20260423T102834
CREATED:20220602T040935Z
LAST-MODIFIED:20220602T040935Z
UID:1812-1657915200-1657915200@deanzasprings.com
SUMMARY:8:00 PM Karaoke Until Closing
DESCRIPTION:
URL:https://deanzasprings.com/event/800-pm-karaoke-until-closing-6/
END:VEVENT
BEGIN:VEVENT
DTSTART;TZID=America/Los_Angeles:20220716T170000
DTEND;TZID=America/Los_Angeles:20220716T170000
DTSTAMP:20260423T102834
CREATED:20220602T041937Z
LAST-MODIFIED:20220602T041937Z
UID:1838-1657990800-1657990800@deanzasprings.com
SUMMARY:5:00PM Evening Art Class w/ Kashi (purchase your tickets today!)
DESCRIPTION:
URL:https://deanzasprings.com/event/500pm-evening-art-class-w-kashi-purchase-your-tickets-today/
END:VEVENT
BEGIN:VEVENT
DTSTART;TZID=America/Los_Angeles:20220716T210000
DTEND;TZID=America/Los_Angeles:20220716T210000
DTSTAMP:20260423T102834
CREATED:20220602T042006Z
LAST-MODIFIED:20220602T042006Z
UID:1840-1658005200-1658005200@deanzasprings.com
SUMMARY:9:00PM Singer & Pianist
DESCRIPTION:
URL:https://deanzasprings.com/event/900pm-singer-pianist/
END:VEVENT
BEGIN:VEVENT
DTSTART;TZID=America/Los_Angeles:20220717T110000
DTEND;TZID=America/Los_Angeles:20220717T110000
DTSTAMP:20260423T102834
CREATED:20220627T191846Z
LAST-MODIFIED:20220627T191949Z
UID:2653-1658055600-1658055600@deanzasprings.com
SUMMARY:11:11AM Sound Healing
DESCRIPTION:
URL:https://deanzasprings.com/event/1111am-sound-healing-2/
CATEGORIES:DSR
END:VEVENT
BEGIN:VEVENT
DTSTART;TZID=America/Los_Angeles:20220717T110000
DTEND;TZID=America/Los_Angeles:20220717T110000
DTSTAMP:20260423T102834
CREATED:20220627T193419Z
LAST-MODIFIED:20220627T193419Z
UID:2703-1658055600-1658055600@deanzasprings.com
SUMMARY:12:00PM Sunday Worship
DESCRIPTION:
URL:https://deanzasprings.com/event/1200pm-sunday-worship-2/
CATEGORIES:DSR
END:VEVENT
BEGIN:VEVENT
DTSTART;TZID=America/Los_Angeles:20220717T110000
DTEND;TZID=America/Los_Angeles:20220717T110000
DTSTAMP:20260423T102834
CREATED:20220627T194927Z
LAST-MODIFIED:20220627T194927Z
UID:2774-1658055600-1658055600@deanzasprings.com
SUMMARY:12:00PM Billiards Tournament
DESCRIPTION:
URL:https://deanzasprings.com/event/1200pm-billiards-tournament-2/
CATEGORIES:DSR
END:VEVENT
BEGIN:VEVENT
DTSTART;TZID=America/Los_Angeles:20220722T180000
DTEND;TZID=America/Los_Angeles:20220722T210000
DTSTAMP:20260423T102834
CREATED:20220602T042054Z
LAST-MODIFIED:20220602T042054Z
UID:1842-1658512800-1658523600@deanzasprings.com
SUMMARY:6:00PM Wine & Dine (Live Pianist in Lounge)
DESCRIPTION:
URL:https://deanzasprings.com/event/600pm-wine-dine-live-pianist-in-lounge/
END:VEVENT
BEGIN:VEVENT
DTSTART;TZID=America/Los_Angeles:20220722T200000
DTEND;TZID=America/Los_Angeles:20220722T200000
DTSTAMP:20260423T102834
CREATED:20220602T040951Z
LAST-MODIFIED:20220602T040951Z
UID:1814-1658520000-1658520000@deanzasprings.com
SUMMARY:8:00 PM Karaoke Until Closing
DESCRIPTION:
URL:https://deanzasprings.com/event/800-pm-karaoke-until-closing-7/
END:VEVENT
BEGIN:VEVENT
DTSTART;TZID=America/Los_Angeles:20220723T200000
DTEND;TZID=America/Los_Angeles:20220723T210000
DTSTAMP:20260423T102834
CREATED:20220602T042136Z
LAST-MODIFIED:20220602T042136Z
UID:1844-1658606400-1658610000@deanzasprings.com
SUMMARY:8:00PM Magic Show
DESCRIPTION:
URL:https://deanzasprings.com/event/800pm-magic-show/
END:VEVENT
BEGIN:VEVENT
DTSTART;TZID=America/Los_Angeles:20220723T210000
DTEND;TZID=America/Los_Angeles:20220723T210000
DTSTAMP:20260423T102834
CREATED:20220602T042214Z
LAST-MODIFIED:20220602T042230Z
UID:1846-1658610000-1658610000@deanzasprings.com
SUMMARY:9:00PM Live Band: Clockwork (Lounge)
DESCRIPTION:
URL:https://deanzasprings.com/event/900pm-live-band-clockwork-lounge/
END:VEVENT
BEGIN:VEVENT
DTSTART;TZID=America/Los_Angeles:20220724T110000
DTEND;TZID=America/Los_Angeles:20220724T110000
DTSTAMP:20260423T102834
CREATED:20220627T192049Z
LAST-MODIFIED:20220627T192049Z
UID:2655-1658660400-1658660400@deanzasprings.com
SUMMARY:11:11AM Sound Healing
DESCRIPTION:
URL:https://deanzasprings.com/event/1111am-sound-healing-3/
CATEGORIES:DSR
END:VEVENT
BEGIN:VEVENT
DTSTART;TZID=America/Los_Angeles:20220724T110000
DTEND;TZID=America/Los_Angeles:20220724T110000
DTSTAMP:20260423T102834
CREATED:20220627T193455Z
LAST-MODIFIED:20220627T193455Z
UID:2706-1658660400-1658660400@deanzasprings.com
SUMMARY:12:00PM Sunday Worship
DESCRIPTION:
URL:https://deanzasprings.com/event/1200pm-sunday-worship-3/
CATEGORIES:DSR
END:VEVENT
BEGIN:VEVENT
DTSTART;TZID=America/Los_Angeles:20220724T110000
DTEND;TZID=America/Los_Angeles:20220724T110000
DTSTAMP:20260423T102834
CREATED:20220627T194946Z
LAST-MODIFIED:20220627T194946Z
UID:2773-1658660400-1658660400@deanzasprings.com
SUMMARY:12:00PM Billiards Tournament
DESCRIPTION:
URL:https://deanzasprings.com/event/1200pm-billiards-tournament-3/
CATEGORIES:DSR
END:VEVENT
BEGIN:VEVENT
DTSTART;TZID=America/Los_Angeles:20220729T190000
DTEND;TZID=America/Los_Angeles:20220729T190000
DTSTAMP:20260423T102834
CREATED:20220602T042314Z
LAST-MODIFIED:20220602T042314Z
UID:1848-1659121200-1659121200@deanzasprings.com
SUMMARY:7:00PM New Member Social (Lounge)
DESCRIPTION:
URL:https://deanzasprings.com/event/700pm-new-member-social-lounge/
END:VEVENT
BEGIN:VEVENT
DTSTART;TZID=America/Los_Angeles:20220729T200000
DTEND;TZID=America/Los_Angeles:20220729T200000
DTSTAMP:20260423T102834
CREATED:20220602T041007Z
LAST-MODIFIED:20220602T041007Z
UID:1816-1659124800-1659124800@deanzasprings.com
SUMMARY:8:00 PM Karaoke Until Closing
DESCRIPTION:
URL:https://deanzasprings.com/event/800-pm-karaoke-until-closing-8/
END:VEVENT
BEGIN:VEVENT
DTSTART;TZID=America/Los_Angeles:20220730T060000
DTEND;TZID=America/Los_Angeles:20220730T060000
DTSTAMP:20260423T102834
CREATED:20220602T042411Z
LAST-MODIFIED:20220602T042411Z
UID:1850-1659160800-1659160800@deanzasprings.com
SUMMARY:6:00AM Trash Clean Up Party (Trains)
DESCRIPTION:
URL:https://deanzasprings.com/event/600am-trash-clean-up-party-trains/
END:VEVENT
BEGIN:VEVENT
DTSTART;TZID=America/Los_Angeles:20220730T210000
DTEND;TZID=America/Los_Angeles:20220730T210000
DTSTAMP:20260423T102834
CREATED:20220602T042445Z
LAST-MODIFIED:20220602T042445Z
UID:1852-1659214800-1659214800@deanzasprings.com
SUMMARY:9:00PM Live Acoustic Singer: Michael Dwyer
DESCRIPTION:
URL:https://deanzasprings.com/event/900pm-live-acoustic-singer-michael-dwyer/
END:VEVENT
BEGIN:VEVENT
DTSTART;TZID=America/Los_Angeles:20220731T110000
DTEND;TZID=America/Los_Angeles:20220731T110000
DTSTAMP:20260423T102834
CREATED:20220627T192116Z
LAST-MODIFIED:20220627T192116Z
UID:2657-1659265200-1659265200@deanzasprings.com
SUMMARY:11:11AM Sound Healing
DESCRIPTION:
URL:https://deanzasprings.com/event/1111am-sound-healing-4/
CATEGORIES:DSR
END:VEVENT
BEGIN:VEVENT
DTSTART;TZID=America/Los_Angeles:20220731T110000
DTEND;TZID=America/Los_Angeles:20220731T110000
DTSTAMP:20260423T102834
CREATED:20220627T193517Z
LAST-MODIFIED:20220627T193517Z
UID:2705-1659265200-1659265200@deanzasprings.com
SUMMARY:12:00PM Sunday Worship
DESCRIPTION:
URL:https://deanzasprings.com/event/1200pm-sunday-worship-4/
CATEGORIES:DSR
END:VEVENT
BEGIN:VEVENT
DTSTART;TZID=America/Los_Angeles:20220731T110000
DTEND;TZID=America/Los_Angeles:20220731T110000
DTSTAMP:20260423T102834
CREATED:20220627T195004Z
LAST-MODIFIED:20220627T195004Z
UID:2772-1659265200-1659265200@deanzasprings.com
SUMMARY:12:00PM Billiards Tournament
DESCRIPTION:
URL:https://deanzasprings.com/event/1200pm-billiards-tournament-4/
CATEGORIES:DSR
END:VEVENT
BEGIN:VEVENT
DTSTART;TZID=America/Los_Angeles:20220803T190000
DTEND;TZID=America/Los_Angeles:20220803T190000
DTSTAMP:20260423T102834
CREATED:20220807T152056Z
LAST-MODIFIED:20220807T152148Z
UID:2868-1659553200-1659553200@deanzasprings.com
SUMMARY:6:00 PM Game Night - Mexican Train Dominoes
DESCRIPTION:
URL:https://deanzasprings.com/event/600-pm-game-night-mexican-train-dominoes/
END:VEVENT
END:VCALENDAR